BEGIN:VCALENDAR
PRODID:http://www.kufer.de/kuferweb / DE
VERSION:2.0
METHOD:PUBLISH
CALSCALE:GREGORIAN
X-WR-TIMEZONE:Europe/Berlin
BEGIN:VTIMEZONE
TZID:Europe/Berlin
X-LIC-LOCATION:Europe/Berlin
BEGIN:DAYLIGHT
TZOFFSETFROM:+0100
TZOFFSETTO:+0200
TZNAME:CEST
DTSTART;TZID=Europe/Berlin:19700329T020000
RRULE:FREQ=YEARLY;INTERVAL=1;BYDAY=-1SU;BYMONTH=3
END:DAYLIGHT
BEGIN:STANDARD
TZOFFSETFROM:+0200
TZOFFSETTO:+0100
TZNAME:CET
DTSTART;TZID=Europe/Berlin:19701025T030000
RRULE:FREQ=YEARLY;INTERVAL=1;BYDAY=-1SU;BYMONTH=10
END:STANDARD
END:VTIMEZONE
BEGIN:VEVENT
DTSTAMP:20260422T092959
DTSTART;TZID=Europe/Berlin:20260414T183000
DTEND;TZID=Europe/Berlin:20260414T194500
UID:261-348-20260414T183000@FABIVOERDE
SUMMARY:Entspannungskurs (261-348) 
LOCATION:Ev. Familienzentrum "Am Park" (Friedrichsfeld), Parkstraße 20, 46562 Voerde
END:VEVENT
BEGIN:VEVENT
DTSTAMP:20260422T092959
DTSTART;TZID=Europe/Berlin:20260421T183000
DTEND;TZID=Europe/Berlin:20260421T194500
UID:261-348-20260421T183000@FABIVOERDE
SUMMARY:Entspannungskurs (261-348) 
LOCATION:Ev. Familienzentrum "Am Park" (Friedrichsfeld), Parkstraße 20, 46562 Voerde
END:VEVENT
BEGIN:VEVENT
DTSTAMP:20260422T092959
DTSTART;TZID=Europe/Berlin:20260428T183000
DTEND;TZID=Europe/Berlin:20260428T194500
UID:261-348-20260428T183000@FABIVOERDE
SUMMARY:Entspannungskurs (261-348) 
LOCATION:Ev. Familienzentrum "Am Park" (Friedrichsfeld), Parkstraße 20, 46562 Voerde
END:VEVENT
BEGIN:VEVENT
DTSTAMP:20260422T092959
DTSTART;TZID=Europe/Berlin:20260505T183000
DTEND;TZID=Europe/Berlin:20260505T194500
UID:261-348-20260505T183000@FABIVOERDE
SUMMARY:Entspannungskurs (261-348) 
LOCATION:Ev. Familienzentrum "Am Park" (Friedrichsfeld), Parkstraße 20, 46562 Voerde
END:VEVENT
BEGIN:VEVENT
DTSTAMP:20260422T092959
DTSTART;TZID=Europe/Berlin:20260512T183000
DTEND;TZID=Europe/Berlin:20260512T194500
UID:261-348-20260512T183000@FABIVOERDE
SUMMARY:Entspannungskurs (261-348) 
LOCATION:Ev. Familienzentrum "Am Park" (Friedrichsfeld), Parkstraße 20, 46562 Voerde
END:VEVENT
BEGIN:VEVENT
DTSTAMP:20260422T092959
DTSTART;TZID=Europe/Berlin:20260519T183000
DTEND;TZID=Europe/Berlin:20260519T194500
UID:261-348-20260519T183000@FABIVOERDE
SUMMARY:Entspannungskurs (261-348) 
LOCATION:Ev. Familienzentrum "Am Park" (Friedrichsfeld), Parkstraße 20, 46562 Voerde
END:VEVENT
BEGIN:VEVENT
DTSTAMP:20260422T092959
DTSTART;TZID=Europe/Berlin:20260526T183000
DTEND;TZID=Europe/Berlin:20260526T194500
UID:261-348-20260526T183000@FABIVOERDE
SUMMARY:Entspannungskurs (261-348) 
LOCATION:Ev. Familienzentrum "Am Park" (Friedrichsfeld), Parkstraße 20, 46562 Voerde
END:VEVENT
BEGIN:VEVENT
DTSTAMP:20260422T092959
DTSTART;TZID=Europe/Berlin:20260602T183000
DTEND;TZID=Europe/Berlin:20260602T194500
UID:261-348-20260602T183000@FABIVOERDE
SUMMARY:Entspannungskurs (261-348) 
LOCATION:Ev. Familienzentrum "Am Park" (Friedrichsfeld), Parkstraße 20, 46562 Voerde
END:VEVENT
BEGIN:VEVENT
DTSTAMP:20260422T092959
DTSTART;TZID=Europe/Berlin:20260609T183000
DTEND;TZID=Europe/Berlin:20260609T194500
UID:261-348-20260609T183000@FABIVOERDE
SUMMARY:Entspannungskurs (261-348) 
LOCATION:Ev. Familienzentrum "Am Park" (Friedrichsfeld), Parkstraße 20, 46562 Voerde
END:VEVENT
BEGIN:VEVENT
DTSTAMP:20260422T092959
DTSTART;TZID=Europe/Berlin:20260616T183000
DTEND;TZID=Europe/Berlin:20260616T194500
UID:261-348-20260616T183000@FABIVOERDE
SUMMARY:Entspannungskurs (261-348) 
LOCATION:Ev. Familienzentrum "Am Park" (Friedrichsfeld), Parkstraße 20, 46562 Voerde
END:VEVENT
END:VCALENDAR